BEGIN:VCALENDAR
VERSION:2.0
PRODID:-//Drum Corps Associates - ECPv6.1.1//NONSGML v1.0//EN
CALSCALE:GREGORIAN
METHOD:PUBLISH
X-WR-CALNAME:Drum Corps Associates
X-ORIGINAL-URL:https://drumcorpsassociates.org
X-WR-CALDESC:Events for Drum Corps Associates
REFRESH-INTERVAL;VALUE=DURATION:PT1H
X-Robots-Tag:noindex
X-PUBLISHED-TTL:PT1H
BEGIN:VTIMEZONE
TZID:America/New_York
BEGIN:DAYLIGHT
TZOFFSETFROM:-0500
TZOFFSETTO:-0400
TZNAME:EDT
DTSTART:20230312T070000
END:DAYLIGHT
BEGIN:STANDARD
TZOFFSETFROM:-0400
TZOFFSETTO:-0500
TZNAME:EST
DTSTART:20231105T060000
END:STANDARD
END:VTIMEZONE
BEGIN:VEVENT
DTSTART;TZID=America/New_York:20230729T190000
DTEND;TZID=America/New_York:20230729T190000
DTSTAMP:20260421T100419
CREATED:20230524T183327Z
LAST-MODIFIED:20230524T200455Z
UID:15069-1690657200-1690657200@drumcorpsassociates.org
SUMMARY:DCA Williamsport\, PA
DESCRIPTION:Corps In Appearance\n\n\n\n\nWHITE SABERS\n\n\n\nBUCCANEERS\n\n\n\nFUSION CORE\n\n\n\nSKYLINERS\n\n\n\nCABALLEROS\n\n\n\nBUSHWACKERS
URL:https://drumcorpsassociates.org/event/dca-williamsport-pa
LOCATION:STA Stadium\, 2990 W 4th St\, Williamsport\, Pennsylvania\, 17701\, United States
CATEGORIES:Drum Corps Performances
ATTACH;FMTTYPE=image/png:https://drumcorpsassociates.org/wp-content/uploads/2023/05/DCA-Event-2023-5.png
END:VEVENT
END:VCALENDAR